BEGIN:VCALENDAR
VERSION:2.0
PRODID:-//LITO - Ligue d &#039;Improvisation Trompe l&#039;Oeil - ECPv6.15.17.1//NONSGML v1.0//EN
CALSCALE:GREGORIAN
METHOD:PUBLISH
X-WR-CALNAME:LITO - Ligue d &#039;Improvisation Trompe l&#039;Oeil
X-ORIGINAL-URL:https://litoimpro.fr
X-WR-CALDESC:Évènements pour LITO - Ligue d &#039;Improvisation Trompe l&#039;Oeil
REFRESH-INTERVAL;VALUE=DURATION:PT1H
X-Robots-Tag:noindex
X-PUBLISHED-TTL:PT1H
BEGIN:VTIMEZONE
TZID:Europe/Paris
BEGIN:DAYLIGHT
TZOFFSETFROM:+0100
TZOFFSETTO:+0200
TZNAME:CEST
DTSTART:20230326T010000
END:DAYLIGHT
BEGIN:STANDARD
TZOFFSETFROM:+0200
TZOFFSETTO:+0100
TZNAME:CET
DTSTART:20231029T010000
END:STANDARD
BEGIN:DAYLIGHT
TZOFFSETFROM:+0100
TZOFFSETTO:+0200
TZNAME:CEST
DTSTART:20240331T010000
END:DAYLIGHT
BEGIN:STANDARD
TZOFFSETFROM:+0200
TZOFFSETTO:+0100
TZNAME:CET
DTSTART:20241027T010000
END:STANDARD
BEGIN:DAYLIGHT
TZOFFSETFROM:+0100
TZOFFSETTO:+0200
TZNAME:CEST
DTSTART:20250330T010000
END:DAYLIGHT
BEGIN:STANDARD
TZOFFSETFROM:+0200
TZOFFSETTO:+0100
TZNAME:CET
DTSTART:20251026T010000
END:STANDARD
END:VTIMEZONE
BEGIN:VEVENT
DTSTART;TZID=Europe/Paris:20240223T203000
DTEND;TZID=Europe/Paris:20240223T230000
DTSTAMP:20260420T141130
CREATED:20231121T145012Z
LAST-MODIFIED:20240220T205729Z
UID:2676-1708720200-1708729200@litoimpro.fr
SUMMARY:[Annulé]Le Banc de la LITO est en Longue Forme
DESCRIPTION:Fermez les yeux… 😌 \nIl y a un banc. \nUn banc\,\nC’est un temps de pause\,\nUn lieu de rendez-vous\,\nC’est un lieu de rencontres improbables\,\nParfois belles\,\nParfois dérangeantes\,\nParfois enivrantes. \nUn banc\,\nÇa reçoit les plus gros soupirs\,\nLes plus fous baisers\,\nLes plus fortes amitiés. \nCertains n’y verront que du bois mort…\nMais quand la LITO se l’approprie\,\nAlors le banc prend vie\,\nPour devenir le point de croisement de toutes les destinées.\n😮 Spectacle tout public. 🚈 Arrêt de métro « Gare Lille Flandres » (🚶 15 minutes à pied) 🚗 Parking Indigo Lille Vieux Lille (🚶 4 minutes à pied)
URL:https://litoimpro.fr/evenement/le-banc-de-la-lito-est-en-longue-forme-2/
LOCATION:Le Trait d’Union Mons-en-Baroeul\, 12 Rue de Normandie\, Mons-en-Barœul\, 59370\, France
CATEGORIES:Long Form
ATTACH;FMTTYPE=image/jpeg:https://litoimpro.fr/wp-content/uploads/2023/03/le-banc-1.jpg
END:VEVENT
END:VCALENDAR