BEGIN:VCALENDAR
VERSION:2.0
PRODID:-//LITO - Ligue d &#039;Improvisation Trompe l&#039;Oeil - ECPv6.15.17.1//NONSGML v1.0//EN
CALSCALE:GREGORIAN
METHOD:PUBLISH
X-WR-CALNAME:LITO - Ligue d &#039;Improvisation Trompe l&#039;Oeil
X-ORIGINAL-URL:https://litoimpro.fr
X-WR-CALDESC:Évènements pour LITO - Ligue d &#039;Improvisation Trompe l&#039;Oeil
REFRESH-INTERVAL;VALUE=DURATION:PT1H
X-Robots-Tag:noindex
X-PUBLISHED-TTL:PT1H
BEGIN:VTIMEZONE
TZID:Europe/Paris
BEGIN:DAYLIGHT
TZOFFSETFROM:+0100
TZOFFSETTO:+0200
TZNAME:CEST
DTSTART:20240331T010000
END:DAYLIGHT
BEGIN:STANDARD
TZOFFSETFROM:+0200
TZOFFSETTO:+0100
TZNAME:CET
DTSTART:20241027T010000
END:STANDARD
BEGIN:DAYLIGHT
TZOFFSETFROM:+0100
TZOFFSETTO:+0200
TZNAME:CEST
DTSTART:20250330T010000
END:DAYLIGHT
BEGIN:STANDARD
TZOFFSETFROM:+0200
TZOFFSETTO:+0100
TZNAME:CET
DTSTART:20251026T010000
END:STANDARD
BEGIN:DAYLIGHT
TZOFFSETFROM:+0100
TZOFFSETTO:+0200
TZNAME:CEST
DTSTART:20260329T010000
END:DAYLIGHT
BEGIN:STANDARD
TZOFFSETFROM:+0200
TZOFFSETTO:+0100
TZNAME:CET
DTSTART:20261025T010000
END:STANDARD
END:VTIMEZONE
BEGIN:VEVENT
DTSTART;TZID=Europe/Paris:20251220T200000
DTEND;TZID=Europe/Paris:20251220T230000
DTSTAMP:20260420T175330
CREATED:20251018T103112Z
LAST-MODIFIED:20251019T081555Z
UID:3499-1766260800-1766271600@litoimpro.fr
SUMMARY:En décembre : de l'impro au Kaleïdospot !
DESCRIPTION:Chaque date\, une nouvelle aventure : cabaret\, catch d’Impro ou spectacle longform… impossible de savoir à l’avance ce qui vous attend\, sinon que ce sera unique\, spontané et 100% improvisé ! Au Kaleidospot\, les comédien·nes inventent en direct des histoires\, des personnages et des univers complètement inédits\, à partir des suggestions du public. Rires\, émotions et surprises garanties : aucun soir ne ressemble au précédent.
URL:https://litoimpro.fr/evenement/en-decembre-de-limpro-au-kaleidospot/
CATEGORIES:Cabaret
ATTACH;FMTTYPE=image/jpeg:https://litoimpro.fr/wp-content/uploads/2023/08/improvisator.jpg
END:VEVENT
END:VCALENDAR