BEGIN:VCALENDAR
VERSION:2.0
PRODID:-//LITO - Ligue d &#039;Improvisation Trompe l&#039;Oeil - ECPv6.15.17.1//NONSGML v1.0//EN
CALSCALE:GREGORIAN
METHOD:PUBLISH
X-ORIGINAL-URL:https://litoimpro.fr
X-WR-CALDESC:Évènements pour LITO - Ligue d &#039;Improvisation Trompe l&#039;Oeil
REFRESH-INTERVAL;VALUE=DURATION:PT1H
X-Robots-Tag:noindex
X-PUBLISHED-TTL:PT1H
BEGIN:VTIMEZONE
TZID:Europe/Paris
BEGIN:DAYLIGHT
TZOFFSETFROM:+0100
TZOFFSETTO:+0200
TZNAME:CEST
DTSTART:20240331T010000
END:DAYLIGHT
BEGIN:STANDARD
TZOFFSETFROM:+0200
TZOFFSETTO:+0100
TZNAME:CET
DTSTART:20241027T010000
END:STANDARD
BEGIN:DAYLIGHT
TZOFFSETFROM:+0100
TZOFFSETTO:+0200
TZNAME:CEST
DTSTART:20250330T010000
END:DAYLIGHT
BEGIN:STANDARD
TZOFFSETFROM:+0200
TZOFFSETTO:+0100
TZNAME:CET
DTSTART:20251026T010000
END:STANDARD
BEGIN:DAYLIGHT
TZOFFSETFROM:+0100
TZOFFSETTO:+0200
TZNAME:CEST
DTSTART:20260329T010000
END:DAYLIGHT
BEGIN:STANDARD
TZOFFSETFROM:+0200
TZOFFSETTO:+0100
TZNAME:CET
DTSTART:20261025T010000
END:STANDARD
END:VTIMEZONE
BEGIN:VEVENT
DTSTART;TZID=Europe/Paris:20251024T200000
DTEND;TZID=Europe/Paris:20251024T213000
DTSTAMP:20260420T222554
CREATED:20251018T105236Z
LAST-MODIFIED:20251019T081736Z
UID:3547-1761336000-1761341400@litoimpro.fr
SUMMARY:Y a pas d'âge pour se marrer !
DESCRIPTION:La Ligue d’Improvisation Trompe l’Oeil s’installe aux Ogiers pour un moment de rire\, de créativité et de partage ! Sur scène\, plusieurs comédiens et un maître de cérémonie improvisent des histoires à partir des idées du public. Rien n’est écrit d’avance : chaque scène est une surprise\, drôle\, poétique ou émouvante. Un spectacle interactif et plein de bonne humeur\, à vivre ensemble pour le simple plaisir du jeu et de la rencontre.
URL:https://litoimpro.fr/evenement/y-a-pas-dage-pour-se-marrer-2/
CATEGORIES:Catch
ATTACH;FMTTYPE=image/jpeg:https://litoimpro.fr/wp-content/uploads/2025/01/cabaret_2025_2.jpg
END:VEVENT
END:VCALENDAR